BEGIN:VCALENDAR
VERSION:2.0
PRODID:-//Manchester Surgical Skills &amp; Simulation Centre - ECPv6.15.9//NONSGML v1.0//EN
CALSCALE:GREGORIAN
METHOD:PUBLISH
X-WR-CALNAME:Manchester Surgical Skills &amp; Simulation Centre
X-ORIGINAL-URL:https://msssc.co.uk
X-WR-CALDESC:Events for Manchester Surgical Skills &amp; Simulation Centre
REFRESH-INTERVAL;VALUE=DURATION:PT1H
X-Robots-Tag:noindex
X-PUBLISHED-TTL:PT1H
BEGIN:VTIMEZONE
TZID:Europe/London
BEGIN:DAYLIGHT
TZOFFSETFROM:+0000
TZOFFSETTO:+0100
TZNAME:BST
DTSTART:20250330T010000
END:DAYLIGHT
BEGIN:STANDARD
TZOFFSETFROM:+0100
TZOFFSETTO:+0000
TZNAME:GMT
DTSTART:20251026T010000
END:STANDARD
BEGIN:DAYLIGHT
TZOFFSETFROM:+0000
TZOFFSETTO:+0100
TZNAME:BST
DTSTART:20260329T010000
END:DAYLIGHT
BEGIN:STANDARD
TZOFFSETFROM:+0100
TZOFFSETTO:+0000
TZNAME:GMT
DTSTART:20261025T010000
END:STANDARD
BEGIN:DAYLIGHT
TZOFFSETFROM:+0000
TZOFFSETTO:+0100
TZNAME:BST
DTSTART:20270328T010000
END:DAYLIGHT
BEGIN:STANDARD
TZOFFSETFROM:+0100
TZOFFSETTO:+0000
TZNAME:GMT
DTSTART:20271031T010000
END:STANDARD
END:VTIMEZONE
BEGIN:VEVENT
DTSTART;VALUE=DATE:20260622
DTEND;VALUE=DATE:20260704
DTSTAMP:20260424T205915
CREATED:20251223T104330Z
LAST-MODIFIED:20260120T102003Z
UID:819-1782086400-1783123199@msssc.co.uk
SUMMARY:START Programme - Phase 2
DESCRIPTION:
URL:https://msssc.co.uk/event/start-programme-medtronic-hugo-ras-system-phase-2/
LOCATION:MSSSC HQ\, Stopford Building\, Oxford Road\, Manchester\, M13 9PT\, United Kingdom
CATEGORIES:Booked
END:VEVENT
BEGIN:VEVENT
DTSTART;VALUE=DATE:20260713
DTEND;VALUE=DATE:20260714
DTSTAMP:20260424T205915
CREATED:20260410T105756Z
LAST-MODIFIED:20260410T105756Z
UID:1050-1783900800-1783987199@msssc.co.uk
SUMMARY:Date Booked
DESCRIPTION:
URL:https://msssc.co.uk/event/podiatric_anatomy/
CATEGORIES:Booked
END:VEVENT
BEGIN:VEVENT
DTSTART;VALUE=DATE:20260715
DTEND;VALUE=DATE:20260717
DTSTAMP:20260424T205915
CREATED:20260410T105845Z
LAST-MODIFIED:20260410T105845Z
UID:1052-1784073600-1784246399@msssc.co.uk
SUMMARY:Dates Booked
DESCRIPTION:
URL:https://msssc.co.uk/event/haemostasis/
CATEGORIES:Booked
END:VEVENT
BEGIN:VEVENT
DTSTART;VALUE=DATE:20260720
DTEND;VALUE=DATE:20260801
DTSTAMP:20260424T205915
CREATED:20251223T104745Z
LAST-MODIFIED:20260120T102203Z
UID:824-1784505600-1785542399@msssc.co.uk
SUMMARY:START Programme - Phase 2
DESCRIPTION:
URL:https://msssc.co.uk/event/start-programme-cmr-surgical-versius-ras-system-phase-2/
LOCATION:MSSSC HQ\, Stopford Building\, Oxford Road\, Manchester\, M13 9PT\, United Kingdom
CATEGORIES:Booked
END:VEVENT
END:VCALENDAR