BEGIN:VCALENDAR
VERSION:2.0
PRODID:-//Manchester Surgical Skills &amp; Simulation Centre - ECPv6.15.9//NONSGML v1.0//EN
CALSCALE:GREGORIAN
METHOD:PUBLISH
X-ORIGINAL-URL:https://msssc.co.uk
X-WR-CALDESC:Events for Manchester Surgical Skills &amp; Simulation Centre
REFRESH-INTERVAL;VALUE=DURATION:PT1H
X-Robots-Tag:noindex
X-PUBLISHED-TTL:PT1H
BEGIN:VTIMEZONE
TZID:Europe/London
BEGIN:DAYLIGHT
TZOFFSETFROM:+0000
TZOFFSETTO:+0100
TZNAME:BST
DTSTART:20250330T010000
END:DAYLIGHT
BEGIN:STANDARD
TZOFFSETFROM:+0100
TZOFFSETTO:+0000
TZNAME:GMT
DTSTART:20251026T010000
END:STANDARD
BEGIN:DAYLIGHT
TZOFFSETFROM:+0000
TZOFFSETTO:+0100
TZNAME:BST
DTSTART:20260329T010000
END:DAYLIGHT
BEGIN:STANDARD
TZOFFSETFROM:+0100
TZOFFSETTO:+0000
TZNAME:GMT
DTSTART:20261025T010000
END:STANDARD
BEGIN:DAYLIGHT
TZOFFSETFROM:+0000
TZOFFSETTO:+0100
TZNAME:BST
DTSTART:20270328T010000
END:DAYLIGHT
BEGIN:STANDARD
TZOFFSETFROM:+0100
TZOFFSETTO:+0000
TZNAME:GMT
DTSTART:20271031T010000
END:STANDARD
END:VTIMEZONE
BEGIN:VEVENT
DTSTART;VALUE=DATE:20260601
DTEND;VALUE=DATE:20260603
DTSTAMP:20260424T192513
CREATED:20260410T104704Z
LAST-MODIFIED:20260410T104704Z
UID:1043-1780272000-1780444799@msssc.co.uk
SUMMARY:Dates booked
DESCRIPTION:
URL:https://msssc.co.uk/event/dates-booked-3/
CATEGORIES:Booked
END:VEVENT
BEGIN:VEVENT
DTSTART;VALUE=DATE:20260603
DTEND;VALUE=DATE:20260605
DTSTAMP:20260424T192513
CREATED:20260410T104757Z
LAST-MODIFIED:20260410T111145Z
UID:1045-1780444800-1780617599@msssc.co.uk
SUMMARY:Dates Booked
DESCRIPTION:
URL:https://msssc.co.uk/event/fannin-morcellation2/
CATEGORIES:Booked
END:VEVENT
BEGIN:VEVENT
DTSTART;VALUE=DATE:20260610
DTEND;VALUE=DATE:20260613
DTSTAMP:20260424T192513
CREATED:20251223T110005Z
LAST-MODIFIED:20260410T105157Z
UID:831-1781049600-1781308799@msssc.co.uk
SUMMARY:Dates Booked
DESCRIPTION:
URL:https://msssc.co.uk/event/open-tibia-course/
LOCATION:MSSSC HQ\, Stopford Building\, Oxford Road\, Manchester\, M13 9PT\, United Kingdom
CATEGORIES:Booked
END:VEVENT
BEGIN:VEVENT
DTSTART;VALUE=DATE:20260615
DTEND;VALUE=DATE:20260616
DTSTAMP:20260424T192513
CREATED:20260410T105440Z
LAST-MODIFIED:20260410T105440Z
UID:1048-1781481600-1781567999@msssc.co.uk
SUMMARY:Date Booked
DESCRIPTION:
URL:https://msssc.co.uk/event/anatomy_drawing/
CATEGORIES:Booked
END:VEVENT
BEGIN:VEVENT
DTSTART;VALUE=DATE:20260617
DTEND;VALUE=DATE:20260619
DTSTAMP:20260424T192513
CREATED:20251223T104159Z
LAST-MODIFIED:20260410T105534Z
UID:817-1781654400-1781827199@msssc.co.uk
SUMMARY:Dates Booked
DESCRIPTION:
URL:https://msssc.co.uk/event/bssh-cadaveric-hand-masterclass/
CATEGORIES:Booked
END:VEVENT
BEGIN:VEVENT
DTSTART;VALUE=DATE:20260622
DTEND;VALUE=DATE:20260704
DTSTAMP:20260424T192513
CREATED:20251223T104330Z
LAST-MODIFIED:20260120T102003Z
UID:819-1782086400-1783123199@msssc.co.uk
SUMMARY:START Programme - Phase 2
DESCRIPTION:
URL:https://msssc.co.uk/event/start-programme-medtronic-hugo-ras-system-phase-2/
LOCATION:MSSSC HQ\, Stopford Building\, Oxford Road\, Manchester\, M13 9PT\, United Kingdom
CATEGORIES:Booked
END:VEVENT
END:VCALENDAR