BEGIN:VCALENDAR
VERSION:2.0
PRODID:-//Manchester Surgical Skills &amp; Simulation Centre - ECPv6.15.9//NONSGML v1.0//EN
CALSCALE:GREGORIAN
METHOD:PUBLISH
X-ORIGINAL-URL:https://msssc.co.uk
X-WR-CALDESC:Events for Manchester Surgical Skills &amp; Simulation Centre
REFRESH-INTERVAL;VALUE=DURATION:PT1H
X-Robots-Tag:noindex
X-PUBLISHED-TTL:PT1H
BEGIN:VTIMEZONE
TZID:Europe/London
BEGIN:DAYLIGHT
TZOFFSETFROM:+0000
TZOFFSETTO:+0100
TZNAME:BST
DTSTART:20250330T010000
END:DAYLIGHT
BEGIN:STANDARD
TZOFFSETFROM:+0100
TZOFFSETTO:+0000
TZNAME:GMT
DTSTART:20251026T010000
END:STANDARD
BEGIN:DAYLIGHT
TZOFFSETFROM:+0000
TZOFFSETTO:+0100
TZNAME:BST
DTSTART:20260329T010000
END:DAYLIGHT
BEGIN:STANDARD
TZOFFSETFROM:+0100
TZOFFSETTO:+0000
TZNAME:GMT
DTSTART:20261025T010000
END:STANDARD
BEGIN:DAYLIGHT
TZOFFSETFROM:+0000
TZOFFSETTO:+0100
TZNAME:BST
DTSTART:20270328T010000
END:DAYLIGHT
BEGIN:STANDARD
TZOFFSETFROM:+0100
TZOFFSETTO:+0000
TZNAME:GMT
DTSTART:20271031T010000
END:STANDARD
END:VTIMEZONE
BEGIN:VEVENT
DTSTART;VALUE=DATE:20260302
DTEND;VALUE=DATE:20260304
DTSTAMP:20260424T173243
CREATED:20260120T103253Z
LAST-MODIFIED:20260120T103253Z
UID:930-1772409600-1772582399@msssc.co.uk
SUMMARY:Dates Booked
DESCRIPTION:
URL:https://msssc.co.uk/event/dates-booked/
CATEGORIES:Booked
END:VEVENT
BEGIN:VEVENT
DTSTART;VALUE=DATE:20260311
DTEND;VALUE=DATE:20260313
DTSTAMP:20260424T173243
CREATED:20260120T103457Z
LAST-MODIFIED:20260120T103457Z
UID:932-1773187200-1773359999@msssc.co.uk
SUMMARY:Dates Booked
DESCRIPTION:
URL:https://msssc.co.uk/event/dates-booked-2/
LOCATION:MSSSC HQ\, Stopford Building\, Oxford Road\, Manchester\, M13 9PT\, United Kingdom
CATEGORIES:Booked
END:VEVENT
BEGIN:VEVENT
DTSTART;VALUE=DATE:20260318
DTEND;VALUE=DATE:20260321
DTSTAMP:20260424T173243
CREATED:20260120T103532Z
LAST-MODIFIED:20260120T103532Z
UID:934-1773792000-1774051199@msssc.co.uk
SUMMARY:Course Enquiry in Progress
DESCRIPTION:
URL:https://msssc.co.uk/event/course-enquiry-in-progress/
CATEGORIES:Provisional
END:VEVENT
BEGIN:VEVENT
DTSTART;VALUE=DATE:20260325
DTEND;VALUE=DATE:20260327
DTSTAMP:20260424T173243
CREATED:20260120T103607Z
LAST-MODIFIED:20260120T103607Z
UID:936-1774396800-1774569599@msssc.co.uk
SUMMARY:Course Enquiry in Progress
DESCRIPTION:
URL:https://msssc.co.uk/event/course-enquiry-in-progress-2/
CATEGORIES:Provisional
END:VEVENT
END:VCALENDAR