BEGIN:VCALENDAR
VERSION:2.0
PRODID:-//Manchester Surgical Skills &amp; Simulation Centre - ECPv6.15.9//NONSGML v1.0//EN
CALSCALE:GREGORIAN
METHOD:PUBLISH
X-WR-CALNAME:Manchester Surgical Skills &amp; Simulation Centre
X-ORIGINAL-URL:https://msssc.co.uk
X-WR-CALDESC:Events for Manchester Surgical Skills &amp; Simulation Centre
REFRESH-INTERVAL;VALUE=DURATION:PT1H
X-Robots-Tag:noindex
X-PUBLISHED-TTL:PT1H
BEGIN:VTIMEZONE
TZID:Europe/London
BEGIN:DAYLIGHT
TZOFFSETFROM:+0000
TZOFFSETTO:+0100
TZNAME:BST
DTSTART:20250330T010000
END:DAYLIGHT
BEGIN:STANDARD
TZOFFSETFROM:+0100
TZOFFSETTO:+0000
TZNAME:GMT
DTSTART:20251026T010000
END:STANDARD
BEGIN:DAYLIGHT
TZOFFSETFROM:+0000
TZOFFSETTO:+0100
TZNAME:BST
DTSTART:20260329T010000
END:DAYLIGHT
BEGIN:STANDARD
TZOFFSETFROM:+0100
TZOFFSETTO:+0000
TZNAME:GMT
DTSTART:20261025T010000
END:STANDARD
BEGIN:DAYLIGHT
TZOFFSETFROM:+0000
TZOFFSETTO:+0100
TZNAME:BST
DTSTART:20270328T010000
END:DAYLIGHT
BEGIN:STANDARD
TZOFFSETFROM:+0100
TZOFFSETTO:+0000
TZNAME:GMT
DTSTART:20271031T010000
END:STANDARD
END:VTIMEZONE
BEGIN:VEVENT
DTSTART;VALUE=DATE:20261207
DTEND;VALUE=DATE:20261212
DTSTAMP:20260425T033433
CREATED:20251223T110625Z
LAST-MODIFIED:20260130T105506Z
UID:845-1796601600-1797033599@msssc.co.uk
SUMMARY:Shared Space
DESCRIPTION:At the Manchester Surgical Skills and Simulation Centre (MSSSC)\, we\nrecognise that flexibility is key – especially for clients running smaller\ncourses who may not require full laboratory space. \nTo better meet your needs\, we’re expanding our offer. You can now book\njust the Seminar Room or select a small number of bays\, giving you more\nchoice\, greater value\, and tailored support for your training delivery. \nFor more details please read our Shared Space Brochure \nYou can send your enquiry by completing our Booking Enquiry Form\, found in the brochure and on our website.
URL:https://msssc.co.uk/event/shared-space-3/
LOCATION:MSSSC HQ\, Stopford Building\, Oxford Road\, Manchester\, M13 9PT\, United Kingdom
CATEGORIES:Provisional
END:VEVENT
END:VCALENDAR