BEGIN:VCALENDAR
VERSION:2.0
PRODID:-//Manchester Surgical Skills &amp; Simulation Centre - ECPv6.15.9//NONSGML v1.0//EN
CALSCALE:GREGORIAN
METHOD:PUBLISH
X-WR-CALNAME:Manchester Surgical Skills &amp; Simulation Centre
X-ORIGINAL-URL:https://msssc.co.uk
X-WR-CALDESC:Events for Manchester Surgical Skills &amp; Simulation Centre
REFRESH-INTERVAL;VALUE=DURATION:PT1H
X-Robots-Tag:noindex
X-PUBLISHED-TTL:PT1H
BEGIN:VTIMEZONE
TZID:Europe/London
BEGIN:DAYLIGHT
TZOFFSETFROM:+0000
TZOFFSETTO:+0100
TZNAME:BST
DTSTART:20250330T010000
END:DAYLIGHT
BEGIN:STANDARD
TZOFFSETFROM:+0100
TZOFFSETTO:+0000
TZNAME:GMT
DTSTART:20251026T010000
END:STANDARD
BEGIN:DAYLIGHT
TZOFFSETFROM:+0000
TZOFFSETTO:+0100
TZNAME:BST
DTSTART:20260329T010000
END:DAYLIGHT
BEGIN:STANDARD
TZOFFSETFROM:+0100
TZOFFSETTO:+0000
TZNAME:GMT
DTSTART:20261025T010000
END:STANDARD
BEGIN:DAYLIGHT
TZOFFSETFROM:+0000
TZOFFSETTO:+0100
TZNAME:BST
DTSTART:20270328T010000
END:DAYLIGHT
BEGIN:STANDARD
TZOFFSETFROM:+0100
TZOFFSETTO:+0000
TZNAME:GMT
DTSTART:20271031T010000
END:STANDARD
END:VTIMEZONE
BEGIN:VEVENT
DTSTART;VALUE=DATE:20260903
DTEND;VALUE=DATE:20260905
DTSTAMP:20260425T034621
CREATED:20251223T110309Z
LAST-MODIFIED:20260120T102410Z
UID:835-1788393600-1788566399@msssc.co.uk
SUMMARY:Dates Booked
DESCRIPTION:
URL:https://msssc.co.uk/event/ortho-elbow-orif-course/
LOCATION:MSSSC HQ\, Stopford Building\, Oxford Road\, Manchester\, M13 9PT\, United Kingdom
CATEGORIES:Booked
END:VEVENT
BEGIN:VEVENT
DTSTART;VALUE=DATE:20260915
DTEND;VALUE=DATE:20260917
DTSTAMP:20260425T034621
CREATED:20251223T102956Z
LAST-MODIFIED:20260410T110552Z
UID:809-1789430400-1789603199@msssc.co.uk
SUMMARY:Basic Surgical Skills - RCS Edinburgh
DESCRIPTION:Basic Surgical Skills\nOverview\nThis two day course\, is designed to instill core surgical skills at the very start of a surgeon’s training by teaching the correct basic techniques. You will be taught instrument handling\, knot tying\, suturing techniques\, fine tissue handling\, wound management and diathermy. \nThese courses are delivered by experienced surgeons with a wide range of knowledge and experience in teaching. \nBOOK HERE – Event/Course Details – Basic Surgical Skills (Manchester) | RCSEd
URL:https://msssc.co.uk/event/bss-edinburgh-2/
LOCATION:MSSSC HQ\, Stopford Building\, Oxford Road\, Manchester\, M13 9PT\, United Kingdom
CATEGORIES:Booked
END:VEVENT
END:VCALENDAR